BEGIN:VCALENDAR
VERSION:2.0
PRODID:-//GRACe - ECPv4.6.15//NONSGML v1.0//EN
CALSCALE:GREGORIAN
METHOD:PUBLISH
X-WR-CALNAME:GRACe
X-ORIGINAL-URL:https://studiosatgrace.com
X-WR-CALDESC:Events for GRACe
BEGIN:VEVENT
DTSTART;TZID=UTC-6:20250607T140000
DTEND;TZID=UTC-6:20250607T180000
DTSTAMP:20260421T221227
CREATED:20250324T163717Z
LAST-MODIFIED:20250430T153442Z
UID:33086-1749304800-1749319200@studiosatgrace.com
SUMMARY:Out There Art Fest 2025
DESCRIPTION:It’s that time again… kick off the Summer with our annual Out There Art Fest! Open studios\, a special gallery show\, live demos\, music\, food and more are all on the bill to entice you to explore our special space and the creatives who do their work here! \nAlso\, live performances by The Astral Rose Joys Dancers\, Briana JannYne\, The River Sings\, Thriive\, and open jam with local Denver musicians\nYoga with Keandra Hunt.We will open our doors from 2:00 – 6:00 pm on Saturday\, June 7 for this FREE event. All ages welcome! \nWe hope you can join us! \n
URL:https://studiosatgrace.com/event/out-there-art-fest-2025/
LOCATION:888 e 50th ave\, Denver\, CO\, 80216\, United States
CATEGORIES:Exhibition,Open House
ATTACH;FMTTYPE=image/jpeg:https://studiosatgrace.com/wp-content/uploads/2025/03/Out-there-art-fest-2025-postcard-1.jpg
END:VEVENT
END:VCALENDAR