BEGIN:VCALENDAR
VERSION:2.0
PRODID:-//GRACe - ECPv4.6.15//NONSGML v1.0//EN
CALSCALE:GREGORIAN
METHOD:PUBLISH
X-WR-CALNAME:GRACe
X-ORIGINAL-URL:https://studiosatgrace.com
X-WR-CALDESC:Events for GRACe
BEGIN:VEVENT
DTSTART;TZID=UTC+0:20240601T150000
DTEND;TZID=UTC+0:20240601T200000
DTSTAMP:20260421T102306
CREATED:20240412T012658Z
LAST-MODIFIED:20240412T012658Z
UID:26975-1717254000-1717272000@studiosatgrace.com
SUMMARY:Out There Art Fest 2024
DESCRIPTION:It’s that time again… kick off the Summer with our annual Out There Art Fest.  Open studios\, a special gallery show\, live demos\, music\, food and more are all on the bill to entice you to explore our special space and the creatives who do their work here!\nWe will open our doors from 3:00 – 8:00 on Saturday\, June 1 for this FREE event.\nWe hope you can join us! \n
URL:https://studiosatgrace.com/event/out-there-art-fest-2024/
LOCATION:888 e 50th ave\, Denver\, CO\, 80216\, United States
CATEGORIES:Exhibition,Open House
ATTACH;FMTTYPE=image/jpeg:https://studiosatgrace.com/wp-content/uploads/2024/04/GRACe-OTAF2024.jpg
END:VEVENT
END:VCALENDAR