BEGIN:VCALENDAR
VERSION:2.0
PRODID:-//GRACe - ECPv4.6.15//NONSGML v1.0//EN
CALSCALE:GREGORIAN
METHOD:PUBLISH
X-WR-CALNAME:GRACe
X-ORIGINAL-URL:http://studiosatgrace.com
X-WR-CALDESC:Events for GRACe
BEGIN:VEVENT
DTSTART;TZID=UTC+0:20190808T150000
DTEND;TZID=UTC+0:20190808T200000
DTSTAMP:20260422T132216
CREATED:20190723T212643Z
LAST-MODIFIED:20190723T212643Z
UID:3383-1565276400-1565294400@studiosatgrace.com
SUMMARY:Susan Blaylock Snodgrass
DESCRIPTION:I’ve always been an artist. In other words I was born that way. Over the years I’ve studied many of the arts: music\, dance\, theatre\, costuming and painting. The visual arts are my favorite and I’ve been painting in several mediums for 20 years. In spite of many life challenges I’m still at it. My paintings can be viewed on my website: www.iwantmypaints.com\nPaintings are best viewed in person. My show is up at GRACe from August 8-30. See you then \n
URL:http://studiosatgrace.com/event/susan-blaylock-snodgrass/
LOCATION:888 e 50th ave\, Denver\, CO\, 80216\, United States
CATEGORIES:Exhibition
ATTACH;FMTTYPE=image/jpeg:http://studiosatgrace.com/wp-content/uploads/2019/07/IMG_0175-copy.jpg
END:VEVENT
END:VCALENDAR