BEGIN:VCALENDAR
VERSION:2.0
PRODID:-//GRACe - ECPv4.6.15//NONSGML v1.0//EN
CALSCALE:GREGORIAN
METHOD:PUBLISH
X-WR-CALNAME:GRACe
X-ORIGINAL-URL:http://studiosatgrace.com
X-WR-CALDESC:Events for GRACe
BEGIN:VEVENT
DTSTART;VALUE=DATE:20200310
DTEND;VALUE=DATE:20200321
DTSTAMP:20260422T160224
CREATED:20200106T145006Z
LAST-MODIFIED:20200221T182816Z
UID:5158-1583798400-1584748799@studiosatgrace.com
SUMMARY:Process & Duplication
DESCRIPTION:Join us as we celebrate Month of Printmaking at GRACe! \nThis is an exhibition of various Printmakers and print artists. Process and its duplication is the main reason many artist gravitate towards printmaking. This process allows us to create images that have an aesthetic that is like none else. This show is to exhibit various Printmakers and print media artist to show the many different processes and results that stem out of Printmaking. A goal of Printmakers is always to educate and allows others to see as well as explore the possibilities of printmaking. We hope to demonstrate that all with this show. \nOn view March 2 through March 20\, 2020.  Opening reception March 10\, from 6:00 – 9:00 \n
URL:http://studiosatgrace.com/event/process-duplication/
LOCATION:888 e 50th ave\, Denver\, CO\, 80216\, United States
CATEGORIES:Exhibition
ATTACH;FMTTYPE=image/jpeg:http://studiosatgrace.com/wp-content/uploads/2020/01/Process-and-Duplication.jpg
END:VEVENT
END:VCALENDAR