BEGIN:VCALENDAR
VERSION:2.0
PRODID:-//GRACe - ECPv4.6.15//NONSGML v1.0//EN
CALSCALE:GREGORIAN
METHOD:PUBLISH
X-WR-CALNAME:GRACe
X-ORIGINAL-URL:http://studiosatgrace.com
X-WR-CALDESC:Events for GRACe
BEGIN:VEVENT
DTSTART;TZID=UTC+0:20190511T160000
DTEND;TZID=UTC+0:20190511T180000
DTSTAMP:20260422T074105
CREATED:20190507T152100Z
LAST-MODIFIED:20190507T152100Z
UID:2728-1557590400-1557597600@studiosatgrace.com
SUMMARY:Paintings by Jeff Howard Opening Reception
DESCRIPTION:Paintings by Jeff Howard at the \nGlobeville Riverfront Art Center\nReception May 11\, 4-6 pm\n
URL:http://studiosatgrace.com/event/paintings-by-jeff-howard-opening-reception/
CATEGORIES:Exhibition
ATTACH;FMTTYPE=image/jpeg:http://studiosatgrace.com/wp-content/uploads/2019/05/unnamed-1.jpg
END:VEVENT
END:VCALENDAR