BEGIN:VCALENDAR
VERSION:2.0
PRODID:-//GRACe - ECPv4.6.15//NONSGML v1.0//EN
CALSCALE:GREGORIAN
METHOD:PUBLISH
X-WR-CALNAME:GRACe
X-ORIGINAL-URL:http://studiosatgrace.com
X-WR-CALDESC:Events for GRACe
BEGIN:VEVENT
DTSTART;TZID=UTC+0:20190406T170000
DTEND;TZID=UTC+0:20190406T210000
DTSTAMP:20260422T055743
CREATED:20190328T150347Z
LAST-MODIFIED:20190329T131939Z
UID:2317-1554570000-1554584400@studiosatgrace.com
SUMMARY:Blood Ties
DESCRIPTION:We are pleased to announce our new show opening: Blood Ties  \n\n\n\n\n\nWith featured artists:\nEric Anderson\nDana Barak\nMichael Dowling\nBrett Fox\nBrett Matarazzo\nCarmen Richards \n \nPlease join us on April 6th\, from 5-9 at GRACe Studios\, 888 E 50th Ave\, Denver 80216\n
URL:http://studiosatgrace.com/event/blood-ties/
LOCATION:888 e 50th ave\, Denver\, CO\, 80216\, United States
CATEGORIES:Exhibition
ATTACH;FMTTYPE=image/jpeg:http://studiosatgrace.com/wp-content/uploads/2019/03/IMG-4600.jpg
END:VEVENT
END:VCALENDAR